BEGIN:VCALENDAR
VERSION:2.0
PRODID:-//Tukios.com/
BEGIN:VEVENT
UID:38dcc5a3-ea19-4513-a592-73740e0aa176@www.cwrfcs.com
DTSTAMP:20260420T224205Z
DTSTART:20260423T160000Z
DTEND:20260423T180000Z
SUMMARY:Visitation
DESCRIPTION:
URL:https://www.cwrfcs.com/obituaries/barbara-roark
LOCATION: 1400 Herschel Bess Boulevard  Poplar Bluff MO 63901
GEO:36.771584;-90.4294576
END:VEVENT
END:VCALENDAR