BEGIN:VCALENDAR
VERSION:2.0
PRODID:-//Tukios.com/
BEGIN:VEVENT
UID:c888c488-f445-4e62-9041-0fcb5c38ca68@www.cwrfcs.com
DTSTAMP:20260420T224001Z
DTSTART:20260423T180000Z
DTEND:20260423T190000Z
SUMMARY:Funeral Service
DESCRIPTION:
URL:https://www.cwrfcs.com/obituaries/barbara-roark
LOCATION: 1400 Herschel Bess Boulevard  Poplar Bluff MO 63901
GEO:36.771584;-90.4294576
END:VEVENT
END:VCALENDAR