BEGIN:VCALENDAR
VERSION:2.0
PRODID:-//Tukios.com/
BEGIN:VEVENT
UID:93417f42-78e1-405c-b259-31ae222926d7@www.cwrfcs.com
DTSTAMP:20260422T070316Z
DTSTART:20260423T160000Z
DTEND:20260423T170000Z
SUMMARY:Mass
DESCRIPTION:
URL:https://www.cwrfcs.com/obituaries/elga-arroyo-de-torres
LOCATION:Cotrell Willow Ridge Funeral and Cremation Services 1100 Iron 
	Bridge Road  Poplar Bluff MO 63901
GEO:36.7683233;-90.4488386
END:VEVENT
END:VCALENDAR