BEGIN:VCALENDAR
VERSION:2.0
PRODID:-//Tukios.com/
BEGIN:VEVENT
UID:70418468-c654-4c9b-aab6-c68b2e5003c5@www.cwrfcs.com
DTSTAMP:20260424T210741Z
DTSTART:20260427T173000Z
DTEND:20260427T193000Z
SUMMARY:Visitation
DESCRIPTION:
URL:https://www.cwrfcs.com/obituaries/linda-arnold
LOCATION:Cotrell Willow Ridge Funeral & Cremation Services 1100 Iron 
	Bridge Rd  Poplar Bluff MO 63901
GEO:36.7683233;-90.4488386
END:VEVENT
END:VCALENDAR