BEGIN:VCALENDAR
VERSION:2.0
PRODID:-//Tukios.com/
BEGIN:VEVENT
UID:b9f94deb-d50d-4372-982f-17c1736e4435@www.cwrfcs.com
DTSTAMP:20260424T210711Z
DTSTART:20260427T050000Z
DTEND:20260427T203000Z
SUMMARY:Graveside Service
DESCRIPTION:
URL:https://www.cwrfcs.com/obituaries/linda-arnold
LOCATION:  County Road 488  Harviell MO 63945
GEO:36.6791532;-90.5245084
END:VEVENT
END:VCALENDAR