BEGIN:VCALENDAR
VERSION:2.0
PRODID:-//Tukios.com/
BEGIN:VEVENT
UID:1585df48-1382-44e1-a3ce-0ca68490702a@www.cwrfcs.com
DTSTAMP:20260423T101616Z
DTSTART:20260513T160000Z
DTEND:20260513T180000Z
SUMMARY:Memorial Service
DESCRIPTION:
URL:https://www.cwrfcs.com/obituaries/rebecca-spencer
LOCATION:Mt. Zion Missionary Baptist Church 1600 South 11th Street  
	Poplar Bluff MO 63901
GEO:36.742739;-90.4062236
END:VEVENT
END:VCALENDAR