BEGIN:VCALENDAR
VERSION:2.0
PRODID:-//Tukios.com/
BEGIN:VEVENT
UID:f9493b4b-2d1f-43fa-91c7-50e30b135e4c@www.cwrfcs.com
DTSTAMP:20260423T085303Z
DTSTART:20260509T190000Z
DTEND:20260509T200000Z
SUMMARY:Memorial Service
DESCRIPTION:
URL:https://www.cwrfcs.com/obituaries/steven-dion
LOCATION:Pinewoods Lake Highway 60  Ellsinore MO 63937
GEO:36.9258507;-90.7530182
END:VEVENT
END:VCALENDAR